BEGIN:VCALENDAR
VERSION:2.0
PRODID:-//www.stllc.org//NONSGML kigkonsult.se iCalcreator 2.30.10//
CALSCALE:GREGORIAN
METHOD:PUBLISH
UID:9c2a9d8f-f19b-46ac-a88e-a971ac07bbfb
X-WR-CALDESC:
X-WR-RELCALID:ee8ceeac6ec37980f3226649646b934f
X-WR-TIMEZONE:America/New_York
BEGIN:VTIMEZONE
TZID:America/New_York
BEGIN:STANDARD
TZNAME:EST
DTSTART:20311102T020000
TZOFFSETFROM:-0400
TZOFFSETTO:-0500
RDATE:20321107T020000
END:STANDARD
BEGIN:DAYLIGHT
TZNAME:EDT
DTSTART:20310309T020000
TZOFFSETFROM:-0500
TZOFFSETTO:-0400
RDATE:20320314T020000
RDATE:20330313T020000
END:DAYLIGHT
END:VTIMEZONE
BEGIN:VEVENT
UID:797b92ae-50d7-4729-adde-0dc8724e8da9
DTSTAMP:20260423T065656Z
DESCRIPTION:
DTSTART;TZID=America/New_York:20311228T090000
DTEND;TZID=America/New_York:20311228T100000
LOCATION:Minerva Chapel
SUMMARY:Minerva Worship Service
END:VEVENT
END:VCALENDAR
