BEGIN:VCALENDAR
VERSION:2.0
PRODID:-//www.stllc.org//NONSGML kigkonsult.se iCalcreator 2.30.10//
CALSCALE:GREGORIAN
METHOD:PUBLISH
UID:88f952ac-76ec-41e7-890f-fda3a3e9cd11
X-WR-CALDESC:
X-WR-RELCALID:57204401cf881f14068d066eafe8da41
X-WR-TIMEZONE:America/New_York
BEGIN:VTIMEZONE
TZID:America/New_York
BEGIN:STANDARD
TZNAME:EST
DTSTART:20311102T020000
TZOFFSETFROM:-0400
TZOFFSETTO:-0500
RDATE:20321107T020000
END:STANDARD
BEGIN:DAYLIGHT
TZNAME:EDT
DTSTART:20310309T020000
TZOFFSETFROM:-0500
TZOFFSETTO:-0400
RDATE:20320314T020000
RDATE:20330313T020000
END:DAYLIGHT
END:VTIMEZONE
BEGIN:VEVENT
UID:9590a091-242f-4016-98e8-d6784889156b
DTSTAMP:20260423T070111Z
DESCRIPTION:
DTSTART;TZID=America/New_York:20311224T103000
DTEND;TZID=America/New_York:20311224T113000
LOCATION:Minerva Chapel
SUMMARY:Worship with Minerva United Methodist Church at Minerva
END:VEVENT
END:VCALENDAR
