BEGIN:VCALENDAR
VERSION:2.0
PRODID:-//www.stllc.org//NONSGML kigkonsult.se iCalcreator 2.30.10//
CALSCALE:GREGORIAN
METHOD:PUBLISH
UID:9f82ceac-40c6-4b29-bded-1bc5d01d341b
X-WR-CALDESC:
X-WR-RELCALID:3974872dcb9ec8965df198de0e250b41
X-WR-TIMEZONE:America/New_York
BEGIN:VTIMEZONE
TZID:America/New_York
BEGIN:STANDARD
TZNAME:EST
DTSTART:20311102T020000
TZOFFSETFROM:-0400
TZOFFSETTO:-0500
RDATE:20321107T020000
END:STANDARD
BEGIN:DAYLIGHT
TZNAME:EDT
DTSTART:20310309T020000
TZOFFSETFROM:-0500
TZOFFSETTO:-0400
RDATE:20320314T020000
RDATE:20330313T020000
END:DAYLIGHT
END:VTIMEZONE
BEGIN:VEVENT
UID:902be2f9-0dbb-457c-b24f-94d4a033c46e
DTSTAMP:20260423T070039Z
DESCRIPTION:
DTSTART;TZID=America/New_York:20311221T140000
DTEND;TZID=America/New_York:20311221T150000
LOCATION:North Canton Chapel
SUMMARY:Sunday Worship at North Canton
END:VEVENT
END:VCALENDAR
