BEGIN:VCALENDAR
VERSION:2.0
PRODID:-//www.stllc.org//NONSGML kigkonsult.se iCalcreator 2.30.10//
CALSCALE:GREGORIAN
METHOD:PUBLISH
UID:ab0b7124-0751-4689-b374-8bc3322736cc
X-WR-CALDESC:
X-WR-RELCALID:3972738bf9f21f956f19eff61f04657c
X-WR-TIMEZONE:America/New_York
BEGIN:VTIMEZONE
TZID:America/New_York
BEGIN:STANDARD
TZNAME:EST
DTSTART:20311102T020000
TZOFFSETFROM:-0400
TZOFFSETTO:-0500
RDATE:20321107T020000
END:STANDARD
BEGIN:DAYLIGHT
TZNAME:EDT
DTSTART:20310309T020000
TZOFFSETFROM:-0500
TZOFFSETTO:-0400
RDATE:20320314T020000
RDATE:20330313T020000
END:DAYLIGHT
END:VTIMEZONE
BEGIN:VEVENT
UID:fe533c81-d8ac-4ea0-9eae-bc5c6fca7a84
DTSTAMP:20260423T070442Z
DESCRIPTION:
DTSTART;TZID=America/New_York:20311207T140000
DTEND;TZID=America/New_York:20311207T150000
LOCATION:North Canton Chapel
SUMMARY:Sunday Worship at North Canton
END:VEVENT
END:VCALENDAR
