BEGIN:VCALENDAR
VERSION:2.0
PRODID:-//www.stllc.org//NONSGML kigkonsult.se iCalcreator 2.30.10//
CALSCALE:GREGORIAN
METHOD:PUBLISH
UID:f83ce303-493f-4cc3-adc7-2b6a4cb17f4c
X-WR-CALDESC:
X-WR-RELCALID:13f216991fa2fdd75878386ba74b766f
X-WR-TIMEZONE:America/New_York
BEGIN:VTIMEZONE
TZID:America/New_York
BEGIN:STANDARD
TZNAME:EST
DTSTART:20311102T020000
TZOFFSETFROM:-0400
TZOFFSETTO:-0500
RDATE:20321107T020000
END:STANDARD
BEGIN:DAYLIGHT
TZNAME:EDT
DTSTART:20310309T020000
TZOFFSETFROM:-0500
TZOFFSETTO:-0400
RDATE:20320314T020000
RDATE:20330313T020000
END:DAYLIGHT
END:VTIMEZONE
BEGIN:VEVENT
UID:c9cda92a-6e83-4415-9201-e14c36eecf73
DTSTAMP:20260423T065753Z
DESCRIPTION:
DTSTART;TZID=America/New_York:20311204T103000
DTEND;TZID=America/New_York:20311204T113000
LOCATION:Minerva Chapel
SUMMARY:St. Gabriel Catholic Church Communion at Minerva
END:VEVENT
END:VCALENDAR
