BEGIN:VCALENDAR
VERSION:2.0
PRODID:-//www.stllc.org//NONSGML kigkonsult.se iCalcreator 2.30.10//
CALSCALE:GREGORIAN
METHOD:PUBLISH
UID:7a202480-c5d5-4c6b-8eb1-cf1634d2440a
X-WR-CALDESC:First Sunday of the month
X-WR-RELCALID:ff3274c56ed902450140f38e62d8b106
X-WR-TIMEZONE:America/New_York
BEGIN:VTIMEZONE
TZID:America/New_York
BEGIN:STANDARD
TZNAME:EST
DTSTART:20311102T020000
TZOFFSETFROM:-0400
TZOFFSETTO:-0500
RDATE:20321107T020000
END:STANDARD
BEGIN:DAYLIGHT
TZNAME:EDT
DTSTART:20310309T020000
TZOFFSETFROM:-0500
TZOFFSETTO:-0400
RDATE:20320314T020000
RDATE:20330313T020000
END:DAYLIGHT
END:VTIMEZONE
BEGIN:VEVENT
UID:8dc73646-6862-4bc3-bdf4-3437b04c32c0
DTSTAMP:20260423T065754Z
DESCRIPTION:First Sunday of the month
DTSTART;TZID=America/New_York:20311201T140000
DTEND;TZID=America/New_York:20311201T150000
LOCATION:North Canton Chapel
SUMMARY:Holy Communion
END:VEVENT
END:VCALENDAR
