BEGIN:VCALENDAR
VERSION:2.0
PRODID:-//www.stllc.org//NONSGML kigkonsult.se iCalcreator 2.30.10//
CALSCALE:GREGORIAN
METHOD:PUBLISH
UID:14d44d44-975f-4332-8aa5-763e7a701ede
X-WR-CALDESC:
X-WR-RELCALID:7d8f013e500c30c3b0ddc24545239cf6
X-WR-TIMEZONE:America/New_York
BEGIN:VTIMEZONE
TZID:America/New_York
BEGIN:STANDARD
TZNAME:EST
DTSTART:20311102T020000
TZOFFSETFROM:-0400
TZOFFSETTO:-0500
RDATE:20321107T020000
END:STANDARD
BEGIN:DAYLIGHT
TZNAME:EDT
DTSTART:20310309T020000
TZOFFSETFROM:-0500
TZOFFSETTO:-0400
RDATE:20320314T020000
RDATE:20330313T020000
END:DAYLIGHT
END:VTIMEZONE
BEGIN:VEVENT
UID:b49cf4c5-d607-4472-af6d-3250d3c20b05
DTSTAMP:20260423T051151Z
DESCRIPTION:
DTSTART;TZID=America/New_York:20311118T103000
DTEND;TZID=America/New_York:20311118T113000
LOCATION:North Canton Chapel
SUMMARY:Inspiartional Bible Stories at North Canton
END:VEVENT
END:VCALENDAR
