BEGIN:VCALENDAR
VERSION:2.0
PRODID:-//www.stllc.org//NONSGML kigkonsult.se iCalcreator 2.30.10//
CALSCALE:GREGORIAN
METHOD:PUBLISH
UID:f59fe8a2-135a-4df2-b1ce-2f22cbfab224
X-WR-CALDESC:
X-WR-RELCALID:1664905dbe5698acc2258da11abf1fbb
X-WR-TIMEZONE:America/New_York
BEGIN:VTIMEZONE
TZID:America/New_York
BEGIN:STANDARD
TZNAME:EST
DTSTART:20311102T020000
TZOFFSETFROM:-0400
TZOFFSETTO:-0500
RDATE:20321107T020000
END:STANDARD
BEGIN:DAYLIGHT
TZNAME:EDT
DTSTART:20310309T020000
TZOFFSETFROM:-0500
TZOFFSETTO:-0400
RDATE:20320314T020000
RDATE:20330313T020000
END:DAYLIGHT
END:VTIMEZONE
BEGIN:VEVENT
UID:0accc180-11f9-495c-96bd-601e8eb5eb25
DTSTAMP:20260423T050521Z
DESCRIPTION:
DTSTART;TZID=America/New_York:20311110T190000
DTEND;TZID=America/New_York:20311110T200000
LOCATION:North Canton Chapel
SUMMARY:Rosary at North Canton
END:VEVENT
END:VCALENDAR
