BEGIN:VCALENDAR
VERSION:2.0
PRODID:-//www.stllc.org//NONSGML kigkonsult.se iCalcreator 2.30.10//
CALSCALE:GREGORIAN
METHOD:PUBLISH
UID:97b85a08-704e-4889-9a5d-1c7c8a71a5a5
X-WR-CALDESC:First Sunday of the month
X-WR-RELCALID:b4cd066d93b7274aa4a94904ef77075b
X-WR-TIMEZONE:America/New_York
BEGIN:VTIMEZONE
TZID:America/New_York
BEGIN:STANDARD
TZNAME:EST
DTSTART:20301103T020000
TZOFFSETFROM:-0400
TZOFFSETTO:-0500
RDATE:20311102T020000
RDATE:20321107T020000
END:STANDARD
BEGIN:DAYLIGHT
TZNAME:EDT
DTSTART:20310309T020000
TZOFFSETFROM:-0500
TZOFFSETTO:-0400
RDATE:20320314T020000
RDATE:20330313T020000
END:DAYLIGHT
END:VTIMEZONE
BEGIN:VEVENT
UID:63f7a2b0-e10f-498d-a707-fbefda73fd12
DTSTAMP:20260423T050241Z
DESCRIPTION:First Sunday of the month
DTSTART;TZID=America/New_York:20311101T140000
DTEND;TZID=America/New_York:20311101T150000
LOCATION:North Canton Chapel
SUMMARY:Holy Communion
END:VEVENT
END:VCALENDAR
