BEGIN:VCALENDAR
VERSION:2.0
PRODID:-//www.stllc.org//NONSGML kigkonsult.se iCalcreator 2.30.10//
CALSCALE:GREGORIAN
METHOD:PUBLISH
UID:626bfa1e-03b6-4e96-904b-3bd1cd42db6e
X-WR-CALDESC:
X-WR-RELCALID:6f1d645bce899419ba8ce7698837bcb2
X-WR-TIMEZONE:America/New_York
BEGIN:VTIMEZONE
TZID:America/New_York
BEGIN:STANDARD
TZNAME:EST
DTSTART:20301103T020000
TZOFFSETFROM:-0400
TZOFFSETTO:-0500
RDATE:20311102T020000
RDATE:20321107T020000
END:STANDARD
BEGIN:DAYLIGHT
TZNAME:EDT
DTSTART:20310309T020000
TZOFFSETFROM:-0500
TZOFFSETTO:-0400
RDATE:20320314T020000
RDATE:20330313T020000
END:DAYLIGHT
END:VTIMEZONE
BEGIN:VEVENT
UID:964375be-40d3-4bee-93e0-570773571ad3
DTSTAMP:20260423T031320Z
DESCRIPTION:
DTSTART;TZID=America/New_York:20311019T090000
DTEND;TZID=America/New_York:20311019T100000
LOCATION:Minerva Chapel
SUMMARY:Minerva Worship Service
END:VEVENT
END:VCALENDAR
