BEGIN:VCALENDAR
VERSION:2.0
PRODID:-//www.stllc.org//NONSGML kigkonsult.se iCalcreator 2.30.10//
CALSCALE:GREGORIAN
METHOD:PUBLISH
UID:126a78ec-5310-458a-99ac-7b985f91218e
X-WR-CALDESC:
X-WR-RELCALID:b3442e1c729030447e3f9b8a157b0fde
X-WR-TIMEZONE:America/New_York
BEGIN:VTIMEZONE
TZID:America/New_York
BEGIN:STANDARD
TZNAME:EST
DTSTART:20301103T020000
TZOFFSETFROM:-0400
TZOFFSETTO:-0500
RDATE:20311102T020000
RDATE:20321107T020000
END:STANDARD
BEGIN:DAYLIGHT
TZNAME:EDT
DTSTART:20310309T020000
TZOFFSETFROM:-0500
TZOFFSETTO:-0400
RDATE:20320314T020000
RDATE:20330313T020000
END:DAYLIGHT
END:VTIMEZONE
BEGIN:VEVENT
UID:b8d9b925-78ab-494c-a943-0f2d4ab4074e
DTSTAMP:20260423T032127Z
DESCRIPTION:
DTSTART;TZID=America/New_York:20311014T103000
DTEND;TZID=America/New_York:20311014T113000
LOCATION:North Canton Chapel
SUMMARY:Inspiartional Bible Stories at North Canton
END:VEVENT
END:VCALENDAR
