BEGIN:VCALENDAR
VERSION:2.0
PRODID:-//www.stllc.org//NONSGML kigkonsult.se iCalcreator 2.30.10//
CALSCALE:GREGORIAN
METHOD:PUBLISH
UID:0e24314a-0144-4b7b-93e9-7749dab53c55
X-WR-CALDESC:
X-WR-RELCALID:2e24db238faac4c8c9422b90c7f0d338
X-WR-TIMEZONE:America/New_York
BEGIN:VTIMEZONE
TZID:America/New_York
BEGIN:STANDARD
TZNAME:EST
DTSTART:20301103T020000
TZOFFSETFROM:-0400
TZOFFSETTO:-0500
RDATE:20311102T020000
RDATE:20321107T020000
END:STANDARD
BEGIN:DAYLIGHT
TZNAME:EDT
DTSTART:20310309T020000
TZOFFSETFROM:-0500
TZOFFSETTO:-0400
RDATE:20320314T020000
RDATE:20330313T020000
END:DAYLIGHT
END:VTIMEZONE
BEGIN:VEVENT
UID:5cecf90d-d6c5-4cc7-84f4-61e3b5ff2564
DTSTAMP:20260423T011425Z
DESCRIPTION:
DTSTART;TZID=America/New_York:20310929T190000
DTEND;TZID=America/New_York:20310929T200000
LOCATION:North Canton Chapel
SUMMARY:Rosary at North Canton
END:VEVENT
END:VCALENDAR
