BEGIN:VCALENDAR
VERSION:2.0
PRODID:-//www.stllc.org//NONSGML kigkonsult.se iCalcreator 2.30.10//
CALSCALE:GREGORIAN
METHOD:PUBLISH
UID:f369ba14-1421-45f2-8739-b2b559fd1f6f
X-WR-CALDESC:
X-WR-RELCALID:590c28d2e47b7e302d67d12e04f45bc2
X-WR-TIMEZONE:America/New_York
BEGIN:VTIMEZONE
TZID:America/New_York
BEGIN:STANDARD
TZNAME:EST
DTSTART:20301103T020000
TZOFFSETFROM:-0400
TZOFFSETTO:-0500
RDATE:20311102T020000
RDATE:20321107T020000
END:STANDARD
BEGIN:DAYLIGHT
TZNAME:EDT
DTSTART:20310309T020000
TZOFFSETFROM:-0500
TZOFFSETTO:-0400
RDATE:20320314T020000
RDATE:20330313T020000
END:DAYLIGHT
END:VTIMEZONE
BEGIN:VEVENT
UID:5e6273ff-b02c-4d82-bf3c-da852cbd4a5e
DTSTAMP:20260423T012008Z
DESCRIPTION:
DTSTART;TZID=America/New_York:20310924T103000
DTEND;TZID=America/New_York:20310924T113000
LOCATION:Minerva Chapel
SUMMARY:Worship with Minerva United Methodist Church at Minerva
END:VEVENT
END:VCALENDAR
