BEGIN:VCALENDAR
VERSION:2.0
PRODID:-//www.stllc.org//NONSGML kigkonsult.se iCalcreator 2.30.10//
CALSCALE:GREGORIAN
METHOD:PUBLISH
UID:457100e3-2ebd-4d8c-a4db-f72883e87223
X-WR-CALDESC:
X-WR-RELCALID:e7bbdf68a9e3d4cd072f876168ae17ff
X-WR-TIMEZONE:America/New_York
BEGIN:VTIMEZONE
TZID:America/New_York
BEGIN:STANDARD
TZNAME:EST
DTSTART:20301103T020000
TZOFFSETFROM:-0400
TZOFFSETTO:-0500
RDATE:20311102T020000
RDATE:20321107T020000
END:STANDARD
BEGIN:DAYLIGHT
TZNAME:EDT
DTSTART:20310309T020000
TZOFFSETFROM:-0500
TZOFFSETTO:-0400
RDATE:20320314T020000
END:DAYLIGHT
END:VTIMEZONE
BEGIN:VEVENT
UID:8584e666-aa73-4206-af52-a698cc346d2f
DTSTAMP:20260423T011845Z
DESCRIPTION:
DTSTART;TZID=America/New_York:20310911T103000
DTEND;TZID=America/New_York:20310911T113000
LOCATION:Minerva Chapel
SUMMARY:St. Gabriel Catholic Church Communion at Minerva
END:VEVENT
END:VCALENDAR
