BEGIN:VCALENDAR
VERSION:2.0
PRODID:-//www.stllc.org//NONSGML kigkonsult.se iCalcreator 2.30.10//
CALSCALE:GREGORIAN
METHOD:PUBLISH
UID:f65683ee-2990-49d7-a984-5ebf59f8af97
X-WR-CALDESC:First Sunday of the month
X-WR-RELCALID:09b8ac5d63a44477fc09661f9c03532b
X-WR-TIMEZONE:America/New_York
BEGIN:VTIMEZONE
TZID:America/New_York
BEGIN:STANDARD
TZNAME:EST
DTSTART:20301103T020000
TZOFFSETFROM:-0400
TZOFFSETTO:-0500
RDATE:20311102T020000
RDATE:20321107T020000
END:STANDARD
BEGIN:DAYLIGHT
TZNAME:EDT
DTSTART:20310309T020000
TZOFFSETFROM:-0500
TZOFFSETTO:-0400
RDATE:20320314T020000
END:DAYLIGHT
END:VTIMEZONE
BEGIN:VEVENT
UID:9f9bd45d-866c-4810-b070-a768121e782f
DTSTAMP:20260423T011323Z
DESCRIPTION:First Sunday of the month
DTSTART;TZID=America/New_York:20310901T140000
DTEND;TZID=America/New_York:20310901T150000
LOCATION:North Canton Chapel
SUMMARY:Holy Communion
END:VEVENT
END:VCALENDAR
