BEGIN:VCALENDAR
VERSION:2.0
PRODID:-//www.stllc.org//NONSGML kigkonsult.se iCalcreator 2.30.10//
CALSCALE:GREGORIAN
METHOD:PUBLISH
UID:6ca5e16d-eb5e-4711-b050-702a15ff30ac
X-WR-CALDESC:
X-WR-RELCALID:bbdebef36eef430f94b959111de431b5
X-WR-TIMEZONE:America/New_York
BEGIN:VTIMEZONE
TZID:America/New_York
BEGIN:STANDARD
TZNAME:EST
DTSTART:20301103T020000
TZOFFSETFROM:-0400
TZOFFSETTO:-0500
RDATE:20311102T020000
RDATE:20321107T020000
END:STANDARD
BEGIN:DAYLIGHT
TZNAME:EDT
DTSTART:20310309T020000
TZOFFSETFROM:-0500
TZOFFSETTO:-0400
RDATE:20320314T020000
END:DAYLIGHT
END:VTIMEZONE
BEGIN:VEVENT
UID:a80fac6a-ae7f-476a-9cb7-4b394272b292
DTSTAMP:20260422T232601Z
DESCRIPTION:
DTSTART;TZID=America/New_York:20310827T103000
DTEND;TZID=America/New_York:20310827T113000
LOCATION:Minerva Chapel
SUMMARY:Worship with Minerva United Methodist Church at Minerva
END:VEVENT
END:VCALENDAR
