BEGIN:VCALENDAR
VERSION:2.0
PRODID:-//www.stllc.org//NONSGML kigkonsult.se iCalcreator 2.30.10//
CALSCALE:GREGORIAN
METHOD:PUBLISH
UID:7b405764-e080-4454-90db-bb12f9d812b8
X-WR-CALDESC:
X-WR-RELCALID:75cd477e85dc774cc2e6f80bc10f69ab
X-WR-TIMEZONE:America/New_York
BEGIN:VTIMEZONE
TZID:America/New_York
BEGIN:STANDARD
TZNAME:EST
DTSTART:20301103T020000
TZOFFSETFROM:-0400
TZOFFSETTO:-0500
RDATE:20311102T020000
RDATE:20321107T020000
END:STANDARD
BEGIN:DAYLIGHT
TZNAME:EDT
DTSTART:20310309T020000
TZOFFSETFROM:-0500
TZOFFSETTO:-0400
RDATE:20320314T020000
END:DAYLIGHT
END:VTIMEZONE
BEGIN:VEVENT
UID:c105d681-3037-464b-ac1b-ddfac5b915c0
DTSTAMP:20260422T231705Z
DESCRIPTION:
DTSTART;TZID=America/New_York:20310817T090000
DTEND;TZID=America/New_York:20310817T100000
LOCATION:Minerva Chapel
SUMMARY:Minerva Worship Service
END:VEVENT
END:VCALENDAR
