BEGIN:VCALENDAR
VERSION:2.0
PRODID:-//www.stllc.org//NONSGML kigkonsult.se iCalcreator 2.30.10//
CALSCALE:GREGORIAN
METHOD:PUBLISH
UID:242f616d-b550-45d7-a5da-f1235c066f1d
X-WR-CALDESC:
X-WR-RELCALID:8f42ece60022e505e68b6903b49b6ee0
X-WR-TIMEZONE:America/New_York
BEGIN:VTIMEZONE
TZID:America/New_York
BEGIN:STANDARD
TZNAME:EST
DTSTART:20301103T020000
TZOFFSETFROM:-0400
TZOFFSETTO:-0500
RDATE:20311102T020000
RDATE:20321107T020000
END:STANDARD
BEGIN:DAYLIGHT
TZNAME:EDT
DTSTART:20310309T020000
TZOFFSETFROM:-0500
TZOFFSETTO:-0400
RDATE:20320314T020000
END:DAYLIGHT
END:VTIMEZONE
BEGIN:VEVENT
UID:d70ac6a1-eff9-451d-9bc7-76ba2e61fdbe
DTSTAMP:20260422T233135Z
DESCRIPTION:
DTSTART;TZID=America/New_York:20310810T140000
DTEND;TZID=America/New_York:20310810T150000
LOCATION:North Canton Chapel
SUMMARY:Sunday Worship at North Canton
END:VEVENT
END:VCALENDAR
