BEGIN:VCALENDAR
VERSION:2.0
PRODID:-//www.stllc.org//NONSGML kigkonsult.se iCalcreator 2.30.10//
CALSCALE:GREGORIAN
METHOD:PUBLISH
UID:c09b0a5d-ba4f-48a4-87fb-76fa4e3e8fe4
X-WR-CALDESC:
X-WR-RELCALID:918c78113adb814269bbef2802f68930
X-WR-TIMEZONE:America/New_York
BEGIN:VTIMEZONE
TZID:America/New_York
BEGIN:STANDARD
TZNAME:EST
DTSTART:20301103T020000
TZOFFSETFROM:-0400
TZOFFSETTO:-0500
RDATE:20311102T020000
RDATE:20321107T020000
END:STANDARD
BEGIN:DAYLIGHT
TZNAME:EDT
DTSTART:20310309T020000
TZOFFSETFROM:-0500
TZOFFSETTO:-0400
RDATE:20320314T020000
END:DAYLIGHT
END:VTIMEZONE
BEGIN:VEVENT
UID:7dff1d68-b3aa-44b1-9c76-447a7357612c
DTSTAMP:20260422T231531Z
DESCRIPTION:
DTSTART;TZID=America/New_York:20310804T190000
DTEND;TZID=America/New_York:20310804T200000
LOCATION:North Canton Chapel
SUMMARY:Rosary at North Canton
END:VEVENT
END:VCALENDAR
