BEGIN:VCALENDAR
VERSION:2.0
PRODID:-//www.stllc.org//NONSGML kigkonsult.se iCalcreator 2.30.10//
CALSCALE:GREGORIAN
METHOD:PUBLISH
UID:b9bd87e7-7dd1-4c96-9a03-48d5cb3980a7
X-WR-CALDESC:First Sunday of the month
X-WR-RELCALID:4e6e7d34d03cad8dadc4a4742aee490d
X-WR-TIMEZONE:America/New_York
BEGIN:VTIMEZONE
TZID:America/New_York
BEGIN:STANDARD
TZNAME:EST
DTSTART:20301103T020000
TZOFFSETFROM:-0400
TZOFFSETTO:-0500
RDATE:20311102T020000
RDATE:20321107T020000
END:STANDARD
BEGIN:DAYLIGHT
TZNAME:EDT
DTSTART:20310309T020000
TZOFFSETFROM:-0500
TZOFFSETTO:-0400
RDATE:20320314T020000
END:DAYLIGHT
END:VTIMEZONE
BEGIN:VEVENT
UID:b7661598-55e0-4db1-b177-25b77d2a6d40
DTSTAMP:20260422T231408Z
DESCRIPTION:First Sunday of the month
DTSTART;TZID=America/New_York:20310801T140000
DTEND;TZID=America/New_York:20310801T150000
LOCATION:North Canton Chapel
SUMMARY:Holy Communion
END:VEVENT
END:VCALENDAR
