BEGIN:VCALENDAR
VERSION:2.0
PRODID:-//www.stllc.org//NONSGML kigkonsult.se iCalcreator 2.30.10//
CALSCALE:GREGORIAN
METHOD:PUBLISH
UID:0f1efeca-c4bb-43ae-a7aa-e3e656ea10dc
X-WR-CALDESC:
X-WR-RELCALID:0f8d9768f5454fb61d54578be2836bca
X-WR-TIMEZONE:America/New_York
BEGIN:VTIMEZONE
TZID:America/New_York
BEGIN:STANDARD
TZNAME:EST
DTSTART:20301103T020000
TZOFFSETFROM:-0400
TZOFFSETTO:-0500
RDATE:20311102T020000
RDATE:20321107T020000
END:STANDARD
BEGIN:DAYLIGHT
TZNAME:EDT
DTSTART:20310309T020000
TZOFFSETFROM:-0500
TZOFFSETTO:-0400
RDATE:20320314T020000
END:DAYLIGHT
END:VTIMEZONE
BEGIN:VEVENT
UID:aeee2738-7b41-4748-8418-ea4d9e36e418
DTSTAMP:20260422T212428Z
DESCRIPTION:
DTSTART;TZID=America/New_York:20310728T190000
DTEND;TZID=America/New_York:20310728T200000
LOCATION:North Canton Chapel
SUMMARY:Rosary at North Canton
END:VEVENT
END:VCALENDAR
