BEGIN:VCALENDAR
VERSION:2.0
PRODID:-//www.stllc.org//NONSGML kigkonsult.se iCalcreator 2.30.10//
CALSCALE:GREGORIAN
METHOD:PUBLISH
UID:dd5b10b1-977c-4f21-a135-6f31b82f5793
X-WR-CALDESC:First Sunday of the month
X-WR-RELCALID:88f6befa3c719391cabd1771688bd59a
X-WR-TIMEZONE:America/New_York
BEGIN:VTIMEZONE
TZID:America/New_York
BEGIN:STANDARD
TZNAME:EST
DTSTART:20301103T020000
TZOFFSETFROM:-0400
TZOFFSETTO:-0500
RDATE:20311102T020000
RDATE:20321107T020000
END:STANDARD
BEGIN:DAYLIGHT
TZNAME:EDT
DTSTART:20310309T020000
TZOFFSETFROM:-0500
TZOFFSETTO:-0400
RDATE:20320314T020000
END:DAYLIGHT
END:VTIMEZONE
BEGIN:VEVENT
UID:cc972bae-7527-4b74-bff6-34fb8f48ee99
DTSTAMP:20260422T212030Z
DESCRIPTION:First Sunday of the month
DTSTART;TZID=America/New_York:20310701T140000
DTEND;TZID=America/New_York:20310701T150000
LOCATION:North Canton Chapel
SUMMARY:Holy Communion
END:VEVENT
END:VCALENDAR
