BEGIN:VCALENDAR
VERSION:2.0
PRODID:-//www.stllc.org//NONSGML kigkonsult.se iCalcreator 2.30.10//
CALSCALE:GREGORIAN
METHOD:PUBLISH
UID:0b4319bf-dfcf-4fd4-85f9-10db36a974da
X-WR-CALDESC:
X-WR-RELCALID:0cd1c276de21fe81567e1ad31639c3a8
X-WR-TIMEZONE:America/New_York
BEGIN:VTIMEZONE
TZID:America/New_York
BEGIN:STANDARD
TZNAME:EST
DTSTART:20301103T020000
TZOFFSETFROM:-0400
TZOFFSETTO:-0500
RDATE:20311102T020000
RDATE:20321107T020000
END:STANDARD
BEGIN:DAYLIGHT
TZNAME:EDT
DTSTART:20310309T020000
TZOFFSETFROM:-0500
TZOFFSETTO:-0400
RDATE:20320314T020000
END:DAYLIGHT
END:VTIMEZONE
BEGIN:VEVENT
UID:86d293bd-8510-4cc7-a8d9-7d4f3422cd6b
DTSTAMP:20260422T193330Z
DESCRIPTION:
DTSTART;TZID=America/New_York:20310619T103000
DTEND;TZID=America/New_York:20310619T113000
LOCATION:Minerva Chapel
SUMMARY:St. Gabriel Catholic Church Communion at Minerva
END:VEVENT
END:VCALENDAR
