BEGIN:VCALENDAR
VERSION:2.0
PRODID:-//www.stllc.org//NONSGML kigkonsult.se iCalcreator 2.30.10//
CALSCALE:GREGORIAN
METHOD:PUBLISH
UID:0fd67785-ef9c-4959-8cd8-130bb9b2aa40
X-WR-CALDESC:
X-WR-RELCALID:37dddbce9215192234bd11a804aa9e42
X-WR-TIMEZONE:America/New_York
BEGIN:VTIMEZONE
TZID:America/New_York
BEGIN:STANDARD
TZNAME:EST
DTSTART:20301103T020000
TZOFFSETFROM:-0400
TZOFFSETTO:-0500
RDATE:20311102T020000
RDATE:20321107T020000
END:STANDARD
BEGIN:DAYLIGHT
TZNAME:EDT
DTSTART:20310309T020000
TZOFFSETFROM:-0500
TZOFFSETTO:-0400
RDATE:20320314T020000
END:DAYLIGHT
END:VTIMEZONE
BEGIN:VEVENT
UID:da0f1245-adff-4e1d-9823-9f0ef11e0c3f
DTSTAMP:20260422T193514Z
DESCRIPTION:
DTSTART;TZID=America/New_York:20310608T140000
DTEND;TZID=America/New_York:20310608T150000
LOCATION:North Canton Chapel
SUMMARY:Sunday Worship at North Canton
END:VEVENT
END:VCALENDAR
