BEGIN:VCALENDAR
VERSION:2.0
PRODID:-//www.stllc.org//NONSGML kigkonsult.se iCalcreator 2.30.10//
CALSCALE:GREGORIAN
METHOD:PUBLISH
UID:0ffe7879-28ad-4dc8-b91c-f02d90f98ab3
X-WR-CALDESC:
X-WR-RELCALID:2850a9d009d9807936e3eaf9e2be5bde
X-WR-TIMEZONE:America/New_York
BEGIN:VTIMEZONE
TZID:America/New_York
BEGIN:STANDARD
TZNAME:EST
DTSTART:20301103T020000
TZOFFSETFROM:-0400
TZOFFSETTO:-0500
RDATE:20311102T020000
RDATE:20321107T020000
END:STANDARD
BEGIN:DAYLIGHT
TZNAME:EDT
DTSTART:20310309T020000
TZOFFSETFROM:-0500
TZOFFSETTO:-0400
RDATE:20320314T020000
END:DAYLIGHT
END:VTIMEZONE
BEGIN:VEVENT
UID:8101062d-ee7d-4a8d-b7f4-30d3355b6ef9
DTSTAMP:20260422T192908Z
DESCRIPTION:
DTSTART;TZID=America/New_York:20310608T090000
DTEND;TZID=America/New_York:20310608T100000
LOCATION:Minerva Chapel
SUMMARY:Minerva Worship Service
END:VEVENT
END:VCALENDAR
