BEGIN:VCALENDAR
VERSION:2.0
PRODID:-//www.stllc.org//NONSGML kigkonsult.se iCalcreator 2.30.10//
CALSCALE:GREGORIAN
METHOD:PUBLISH
UID:334c0bc5-16f7-4fca-9ebb-c2f021c0147f
X-WR-CALDESC:First Sunday of the month
X-WR-RELCALID:e7bb80942f4e0fc9929ce1f6306e6d1d
X-WR-TIMEZONE:America/New_York
BEGIN:VTIMEZONE
TZID:America/New_York
BEGIN:STANDARD
TZNAME:EST
DTSTART:20301103T020000
TZOFFSETFROM:-0400
TZOFFSETTO:-0500
RDATE:20311102T020000
RDATE:20321107T020000
END:STANDARD
BEGIN:DAYLIGHT
TZNAME:EDT
DTSTART:20310309T020000
TZOFFSETFROM:-0500
TZOFFSETTO:-0400
RDATE:20320314T020000
END:DAYLIGHT
END:VTIMEZONE
BEGIN:VEVENT
UID:5f31b020-b36a-4a77-87ba-73bf19699e0e
DTSTAMP:20260422T192759Z
DESCRIPTION:First Sunday of the month
DTSTART;TZID=America/New_York:20310601T140000
DTEND;TZID=America/New_York:20310601T150000
LOCATION:North Canton Chapel
SUMMARY:Holy Communion
END:VEVENT
END:VCALENDAR
