BEGIN:VCALENDAR
VERSION:2.0
PRODID:-//www.stllc.org//NONSGML kigkonsult.se iCalcreator 2.30.10//
CALSCALE:GREGORIAN
METHOD:PUBLISH
UID:41e3ae02-c31d-4ba7-89b9-93e45a8ffb42
X-WR-CALDESC:
X-WR-RELCALID:876f6090f57dbcdc5cb08d8126291dea
X-WR-TIMEZONE:America/New_York
BEGIN:VTIMEZONE
TZID:America/New_York
BEGIN:STANDARD
TZNAME:EST
DTSTART:20301103T020000
TZOFFSETFROM:-0400
TZOFFSETTO:-0500
RDATE:20311102T020000
RDATE:20321107T020000
END:STANDARD
BEGIN:DAYLIGHT
TZNAME:EDT
DTSTART:20310309T020000
TZOFFSETFROM:-0500
TZOFFSETTO:-0400
RDATE:20320314T020000
END:DAYLIGHT
END:VTIMEZONE
BEGIN:VEVENT
UID:01f6d603-3df2-49d3-8ab2-340b4aea17d4
DTSTAMP:20260422T174949Z
DESCRIPTION:
DTSTART;TZID=America/New_York:20310527T103000
DTEND;TZID=America/New_York:20310527T113000
LOCATION:North Canton Chapel
SUMMARY:Inspiartional Bible Stories at North Canton
END:VEVENT
END:VCALENDAR
