BEGIN:VCALENDAR
VERSION:2.0
PRODID:-//www.stllc.org//NONSGML kigkonsult.se iCalcreator 2.30.10//
CALSCALE:GREGORIAN
METHOD:PUBLISH
UID:dbd9e5a5-b4de-4f80-921b-5a17c3b68317
X-WR-CALDESC:
X-WR-RELCALID:e74a14d91820564bb590c2077ec592f7
X-WR-TIMEZONE:America/New_York
BEGIN:VTIMEZONE
TZID:America/New_York
BEGIN:STANDARD
TZNAME:EST
DTSTART:20301103T020000
TZOFFSETFROM:-0400
TZOFFSETTO:-0500
RDATE:20311102T020000
END:STANDARD
BEGIN:DAYLIGHT
TZNAME:EDT
DTSTART:20310309T020000
TZOFFSETFROM:-0500
TZOFFSETTO:-0400
RDATE:20320314T020000
END:DAYLIGHT
END:VTIMEZONE
BEGIN:VEVENT
UID:50771e13-c104-4e15-9861-5f4afdbb1140
DTSTAMP:20260422T174747Z
DESCRIPTION:
DTSTART;TZID=America/New_York:20310501T103000
DTEND;TZID=America/New_York:20310501T113000
LOCATION:Minerva Chapel
SUMMARY:St. Gabriel Catholic Church Communion at Minerva
END:VEVENT
END:VCALENDAR
