BEGIN:VCALENDAR
VERSION:2.0
PRODID:-//www.stllc.org//NONSGML kigkonsult.se iCalcreator 2.30.10//
CALSCALE:GREGORIAN
METHOD:PUBLISH
UID:f013c711-bd28-424e-ae0e-37b461fa6790
X-WR-CALDESC:
X-WR-RELCALID:06c15a06fba04eb08c80a2a1c52cc296
X-WR-TIMEZONE:America/New_York
BEGIN:VTIMEZONE
TZID:America/New_York
BEGIN:STANDARD
TZNAME:EST
DTSTART:20301103T020000
TZOFFSETFROM:-0400
TZOFFSETTO:-0500
RDATE:20311102T020000
END:STANDARD
BEGIN:DAYLIGHT
TZNAME:EDT
DTSTART:20310309T020000
TZOFFSETFROM:-0500
TZOFFSETTO:-0400
RDATE:20320314T020000
END:DAYLIGHT
END:VTIMEZONE
BEGIN:VEVENT
UID:a9131658-c2a6-43bc-ab51-520e8ab58dcb
DTSTAMP:20260422T161346Z
DESCRIPTION:
DTSTART;TZID=America/New_York:20310423T103000
DTEND;TZID=America/New_York:20310423T113000
LOCATION:Minerva Chapel
SUMMARY:Worship with Minerva United Methodist Church at Minerva
END:VEVENT
END:VCALENDAR
