BEGIN:VCALENDAR
VERSION:2.0
PRODID:-//www.stllc.org//NONSGML kigkonsult.se iCalcreator 2.30.10//
CALSCALE:GREGORIAN
METHOD:PUBLISH
UID:042b094a-ce5b-42d4-945a-fa9453d48dc2
X-WR-CALDESC:
X-WR-RELCALID:63297cb15ab455a541a95762a312f99f
X-WR-TIMEZONE:America/New_York
BEGIN:VTIMEZONE
TZID:America/New_York
BEGIN:STANDARD
TZNAME:EST
DTSTART:20301103T020000
TZOFFSETFROM:-0400
TZOFFSETTO:-0500
RDATE:20311102T020000
END:STANDARD
BEGIN:DAYLIGHT
TZNAME:EDT
DTSTART:20310309T020000
TZOFFSETFROM:-0500
TZOFFSETTO:-0400
RDATE:20320314T020000
END:DAYLIGHT
END:VTIMEZONE
BEGIN:VEVENT
UID:883b5257-ecfe-4d48-9f27-0c15190338f0
DTSTAMP:20260422T143042Z
DESCRIPTION:
DTSTART;TZID=America/New_York:20310326T103000
DTEND;TZID=America/New_York:20310326T113000
LOCATION:Minerva Chapel
SUMMARY:Worship with Minerva United Methodist Church at Minerva
END:VEVENT
END:VCALENDAR
