BEGIN:VCALENDAR
VERSION:2.0
PRODID:-//www.stllc.org//NONSGML kigkonsult.se iCalcreator 2.30.10//
CALSCALE:GREGORIAN
METHOD:PUBLISH
UID:ef470c50-7e21-4cef-9c72-ea20b9a9027f
X-WR-CALDESC:
X-WR-RELCALID:12d80abda075f53a2c6e6a29c33167a4
X-WR-TIMEZONE:America/New_York
BEGIN:VTIMEZONE
TZID:America/New_York
BEGIN:STANDARD
TZNAME:EST
DTSTART:20301103T020000
TZOFFSETFROM:-0400
TZOFFSETTO:-0500
RDATE:20311102T020000
END:STANDARD
BEGIN:DAYLIGHT
TZNAME:EDT
DTSTART:20310309T020000
TZOFFSETFROM:-0500
TZOFFSETTO:-0400
RDATE:20320314T020000
END:DAYLIGHT
END:VTIMEZONE
BEGIN:VEVENT
UID:45251455-917a-4971-b6c3-c44e1619c146
DTSTAMP:20260422T143228Z
DESCRIPTION:
DTSTART;TZID=America/New_York:20310318T103000
DTEND;TZID=America/New_York:20310318T113000
LOCATION:North Canton Chapel
SUMMARY:Inspiartional Bible Stories at North Canton
END:VEVENT
END:VCALENDAR
