BEGIN:VCALENDAR
VERSION:2.0
PRODID:-//www.stllc.org//NONSGML kigkonsult.se iCalcreator 2.30.10//
CALSCALE:GREGORIAN
METHOD:PUBLISH
UID:fca08fa5-bea4-4c5d-b2a7-255788054f9f
X-WR-CALDESC:
X-WR-RELCALID:e2e88e87e022ee16db7e4d987859eebc
X-WR-TIMEZONE:America/New_York
BEGIN:VTIMEZONE
TZID:America/New_York
BEGIN:STANDARD
TZNAME:EST
DTSTART:20301103T020000
TZOFFSETFROM:-0400
TZOFFSETTO:-0500
RDATE:20311102T020000
END:STANDARD
BEGIN:DAYLIGHT
TZNAME:EDT
DTSTART:20300310T020000
TZOFFSETFROM:-0500
TZOFFSETTO:-0400
RDATE:20310309T020000
RDATE:20320314T020000
END:DAYLIGHT
END:VTIMEZONE
BEGIN:VEVENT
UID:aa79f316-bd99-4f35-a41e-cb0d749b8626
DTSTAMP:20260422T122545Z
DESCRIPTION:
DTSTART;TZID=America/New_York:20310206T103000
DTEND;TZID=America/New_York:20310206T113000
LOCATION:Minerva Chapel
SUMMARY:St. Gabriel Catholic Church Communion at Minerva
END:VEVENT
END:VCALENDAR
