BEGIN:VCALENDAR
VERSION:2.0
PRODID:-//www.stllc.org//NONSGML kigkonsult.se iCalcreator 2.30.10//
CALSCALE:GREGORIAN
METHOD:PUBLISH
UID:de34edc3-6901-47c1-8db5-c088a8cb28af
X-WR-CALDESC:
X-WR-RELCALID:60397ab3aa57c82f12c783c0236c6c8a
X-WR-TIMEZONE:America/New_York
BEGIN:VTIMEZONE
TZID:America/New_York
BEGIN:STANDARD
TZNAME:EST
DTSTART:20301103T020000
TZOFFSETFROM:-0400
TZOFFSETTO:-0500
RDATE:20311102T020000
END:STANDARD
BEGIN:DAYLIGHT
TZNAME:EDT
DTSTART:20300310T020000
TZOFFSETFROM:-0500
TZOFFSETTO:-0400
RDATE:20310309T020000
RDATE:20320314T020000
END:DAYLIGHT
END:VTIMEZONE
BEGIN:VEVENT
UID:30458a4c-0fa1-438c-8770-c737e646e35f
DTSTAMP:20260422T123638Z
DESCRIPTION:
DTSTART;TZID=America/New_York:20310204T103000
DTEND;TZID=America/New_York:20310204T113000
LOCATION:North Canton Chapel
SUMMARY:Inspiartional Bible Stories at North Canton
END:VEVENT
END:VCALENDAR
