BEGIN:VCALENDAR
VERSION:2.0
PRODID:-//www.stllc.org//NONSGML kigkonsult.se iCalcreator 2.30.10//
CALSCALE:GREGORIAN
METHOD:PUBLISH
UID:8a9a5dce-e5f6-4752-877e-b3928d5924ca
X-WR-CALDESC:First Sunday of the month
X-WR-RELCALID:2d3c2c32f2280c182023594050d01939
X-WR-TIMEZONE:America/New_York
BEGIN:VTIMEZONE
TZID:America/New_York
BEGIN:STANDARD
TZNAME:EST
DTSTART:20301103T020000
TZOFFSETFROM:-0400
TZOFFSETTO:-0500
RDATE:20311102T020000
END:STANDARD
BEGIN:DAYLIGHT
TZNAME:EDT
DTSTART:20300310T020000
TZOFFSETFROM:-0500
TZOFFSETTO:-0400
RDATE:20310309T020000
RDATE:20320314T020000
END:DAYLIGHT
END:VTIMEZONE
BEGIN:VEVENT
UID:15c90a19-11e0-43f7-8105-979820ba0b77
DTSTAMP:20260422T124525Z
DESCRIPTION:First Sunday of the month
DTSTART;TZID=America/New_York:20310201T140000
DTEND;TZID=America/New_York:20310201T150000
LOCATION:North Canton Chapel
SUMMARY:Holy Communion
END:VEVENT
END:VCALENDAR
