BEGIN:VCALENDAR
VERSION:2.0
PRODID:-//www.stllc.org//NONSGML kigkonsult.se iCalcreator 2.30.10//
CALSCALE:GREGORIAN
METHOD:PUBLISH
UID:f3afc0ab-1494-43b1-92a1-762254e8e37a
X-WR-CALDESC:
X-WR-RELCALID:6c8798355641c82b0812fb58275dedb4
X-WR-TIMEZONE:America/New_York
BEGIN:VTIMEZONE
TZID:America/New_York
BEGIN:STANDARD
TZNAME:EST
DTSTART:20301103T020000
TZOFFSETFROM:-0400
TZOFFSETTO:-0500
RDATE:20311102T020000
END:STANDARD
BEGIN:DAYLIGHT
TZNAME:EDT
DTSTART:20300310T020000
TZOFFSETFROM:-0500
TZOFFSETTO:-0400
RDATE:20310309T020000
RDATE:20320314T020000
END:DAYLIGHT
END:VTIMEZONE
BEGIN:VEVENT
UID:39579df0-b93b-421e-ad40-0e7c86f7d855
DTSTAMP:20260422T090152Z
DESCRIPTION:
DTSTART;TZID=America/New_York:20301222T090000
DTEND;TZID=America/New_York:20301222T100000
LOCATION:Minerva Chapel
SUMMARY:Minerva Worship Service
END:VEVENT
END:VCALENDAR
