BEGIN:VCALENDAR
VERSION:2.0
PRODID:-//www.stllc.org//NONSGML kigkonsult.se iCalcreator 2.30.10//
CALSCALE:GREGORIAN
METHOD:PUBLISH
UID:129c407b-436e-4fdf-8df7-eafc3dbeb2fb
X-WR-CALDESC:
X-WR-RELCALID:e78dca7815461ba1e0a147d4b8ef8636
X-WR-TIMEZONE:America/New_York
BEGIN:VTIMEZONE
TZID:America/New_York
BEGIN:STANDARD
TZNAME:EST
DTSTART:20301103T020000
TZOFFSETFROM:-0400
TZOFFSETTO:-0500
RDATE:20311102T020000
END:STANDARD
BEGIN:DAYLIGHT
TZNAME:EDT
DTSTART:20300310T020000
TZOFFSETFROM:-0500
TZOFFSETTO:-0400
RDATE:20310309T020000
RDATE:20320314T020000
END:DAYLIGHT
END:VTIMEZONE
BEGIN:VEVENT
UID:43aedba7-6e1b-4020-a21b-36fa1d007ca4
DTSTAMP:20260422T090712Z
DESCRIPTION:
DTSTART;TZID=America/New_York:20301208T140000
DTEND;TZID=America/New_York:20301208T150000
LOCATION:North Canton Chapel
SUMMARY:Sunday Worship at North Canton
END:VEVENT
END:VCALENDAR
