BEGIN:VCALENDAR
VERSION:2.0
PRODID:-//www.stllc.org//NONSGML kigkonsult.se iCalcreator 2.30.10//
CALSCALE:GREGORIAN
METHOD:PUBLISH
UID:38b26b0f-2d29-4bde-b171-5b1bf53682ab
X-WR-CALDESC:
X-WR-RELCALID:59f34ac07aaf696ffc797f14006c78b6
X-WR-TIMEZONE:America/New_York
BEGIN:VTIMEZONE
TZID:America/New_York
BEGIN:STANDARD
TZNAME:EST
DTSTART:20301103T020000
TZOFFSETFROM:-0400
TZOFFSETTO:-0500
RDATE:20311102T020000
END:STANDARD
BEGIN:DAYLIGHT
TZNAME:EDT
DTSTART:20300310T020000
TZOFFSETFROM:-0500
TZOFFSETTO:-0400
RDATE:20310309T020000
RDATE:20320314T020000
END:DAYLIGHT
END:VTIMEZONE
BEGIN:VEVENT
UID:4db2b5e7-43fb-4716-9eb8-77d237d4d349
DTSTAMP:20260422T091117Z
DESCRIPTION:
DTSTART;TZID=America/New_York:20301202T190000
DTEND;TZID=America/New_York:20301202T200000
LOCATION:North Canton Chapel
SUMMARY:Rosary at North Canton
END:VEVENT
END:VCALENDAR
